Workbook

Sheet SOL_DISCRIMINADA
C2: PARA PERSONAL | D2: GÉNERO | E2: TALLAS | F2: ESPECIFICACIONES TÉCNICAS REQUERIDAS | H2: SALARIO MINIMO 2024 | J2: NUM_FUNC | L2: CANTIDAD DOTACIONES RES. 2069 DE 2019 | N2: CANTIDAD DOTACIONES RES. 1407 DE 2015 | P2: PPTO POR FUNCIONARIO | R2: PPTO TOTAL
B3: OFICINA- DAMAS | C3: NIVEL TÉCNICO Y ASISTENCIAL (SECRETARIAS Y AUXILIARES ADMINISTRATIVOS) | D3: FEM | E3: XXS -XXL | F3: VESTIDO FORMAL (tradicional). Cuatro (4) prendas, así: Chaqueta (con bolsillos), chaleco (con bolsillos): (COMPOSICIÓN 94% poliester,6% spandex , Forro 100% poliester) Pantalón: (COMPOSICIÓN: 96% poliester 4% spandex). Camisa: (COMPOSICIÓN: poliester 83% algodón 15% spandex 2%). (TELAS LAFAYETTE) | H3: 1300000 | J3: 70 | N3: 197 | P3: =(H3/30)*16 -> 693333.33 | R3: =N3*P3 -> 1.3658667e+08
C4: NIVEL TÉCNICO Y ASISTENCIAL (SECRETARIAS Y AUXILIARES ADMINISTRATIVOS) | D4: FEM | E4: XXS -XXL | F4: VESTIDO INFORMAL (Adicional). Tres prendas (3), así: Chaqueta (con bolsillos), pantalón y blusa, (TELAS LAFAYETTE) Jean (COMPOSICIÓN: 45% poliester 5% spandex 50% algodón), Chaqueta (COMPOSICIÓN: 100% poliéster DESCRIPCIÓN: 133G antifluido protección solar, Blusa (COMPOSICIÓN: poliéster 83% algodón 15% spandex 2%). Forro: 100% poliéster | H4: 1300000 | J4: 65 | L4: 65 | N4: - | P4: =H4/30*16 -> 693333.33 | R4: =L4*P4 -> 45066667
C5: NIVEL TÉCNICO Y ASISTENCIAL (SECRETARIAS Y AUXILIARES ADMINISTRATIVOS) | D5: FEM | E5: XXS -XXL | F5: BLUSA Formal (Adicional) (TELAS LAFAYETTE) (COMPOSICIÓN: poliéster 83% algodón 15% spandez 2%) | H5: 1300000 | J5: 65 | L5: 65 | N5: - | P5: =H5/30*3 -> 130000 | R5: =L5*P5 -> 8450000
B6: BONO - 2024 | C6: NIVEL TÉCNICO Y ASISTENCIAL (SECRETARIAS Y AUXILIARES ADMINISTRATIVOS) | D6: FEM | E6: 34 - 40 | F6: CALZADO (tradicional). Para uso con traje formal, en piel natural de origen bovino. CERTIFICADO DE RETIRO DE MERCANCIA | H6: 1300000 | J6: 70 | N6: 197 | P6: =(H6/30)*5 -> 216666.67 | R6: =N6*P6 -> 42683333
B7: OFICINA- MASCULINO | C7: NIVEL TÉCNICO Y ASISTENCIAL (AUXILIARES ADMINISTRATIVOS) | D7: MAS | E7: XS -XXL | F7: VESTIDO FORMAL (tradicional). Cuatro (4) prendas, así: Blazer, pantalón, camisa y corbata, (TELAS LAFAYETTE) BLAZER (COMPOSICIÓN: 70% poliéster 30% rayon vizcosa, 100% poliester el forro), CAMISAS (COMPOSICIÓN: 60% Algodón 40% poliéster),PANTALÓN (COMPOSICIÓN: 65% poliéster Y 35% Viscosa) CORBATA (COMPOSICIÓN: filamentos de poliéster sin textura superior o igual al 85% en peso, tejido plano 100% filamento continuo de poliéster con hilos de diferentes colores suavizados. (satín, microfibra, estampado). | H7: 1300000 | J7: 27+2+2+2 | L7: - | N7: 77 | P7: =(H7/30)*16 -> 693333.33 | R7: =N7*P7 -> 53386667
C8: NIVEL TÉCNICO Y ASISTENCIAL (AUXILIARES ADMINISTRATIVOS) | D8: MAS | E8: XS -XXL | F8: VESTIDO INFORMAL (Adicional). Tres (3) prendas, así: Chaqueta, pantalón y camisa, (TELAS LAFAYETTE) CHAQUETA (COMPOSICION : 100% poliéster ), PANTALON EN JEAN (COMPOSICIÓN índigo Calypso Pimienta De 13 Onzas Lycrado Algodón 100%) | H8: 1300000 | J8: 28 | L8: 31 | N8: - | P8: =H8/30*16 -> 693333.33 | R8: =L8*P8 -> 21493333
C9: NIVEL TÉCNICO Y ASISTENCIAL (AUXILIARES ADMINISTRATIVOS) | D9: MAS | E9: XS -XXXL | F9: CAMISA Formal (Adicional) (TELAS LAFAYETTE) (COMPOSICIÓN: 60% Algodón 40% poliéster) | H9: 1300000 | J9: 27 | L9: 27 | N9: - | P9: =H9/30*3 -> 130000 | R9: =L9*P9 -> 3510000
B10: BONO - 2024 | C10: NIVEL TÉCNICO Y ASISTENCIAL (AUXILIARES ADMINISTRATIVOS) | D10: MAS | E10: 34 - 42 | F10: CALZADO (tradicional). Para uso con traje formal, en piel natural de origen bovino. CERTIFICADO DE RETIRO DE MERCANCIA | H10: 1300000 | J10: 28 | L10: - | N10: 81 | P10: =(H10/30)*5 -> 216666.67 | R10: =N10*P10 -> 17550000
B11: SEDE PLENOSOL | C11: NIVEL TÉCNICO Y ASISTENCIAL (AUXILIARES ADMINISTRATIVOS) | D11: MAS | E11: XS -XXL | F11: VESTIDO INFORMAL Tres (3) prendas, así: Chaqueta, pantalón y camisa, (TELAS LAFAYETTE) CHAQUETA (COMPOSICION : 100% poliéster ), PANTALON EN JEAN (COMPOSICIÓN índigo Calypso Pimienta De 13 Onzas Lycrado Algodón 100%) | H11: 1300000 | J11: 1 | L11: - | N11: =J11*3 -> 3 | P11: =H11/30*16 -> 693333.33 | R11: =N11*P11 -> 2080000
C12: NIVEL TÉCNICO Y ASISTENCIAL (AUXILIARES ADMINISTRATIVOS) | D12: MAS | E12: XS -XXL | F12: VESTIDO INFORMAL (Adicional). Tres (3) prendas, así: Chaqueta, pantalón y camisa, (TELAS LAFAYETTE) CHAQUETA (COMPOSICION : 100%poliéster ), PANTALON EN JEAN (COMPOSICIÓN índigo Calypso Pimienta De 13 Onzas Lycrado Algodón 100%) | H12: 1300000 | J12: 1 | L12: 1 | N12: - | P12: =H12/30*16 -> 693333.33 | R12: =L12*P12 -> 693333.33
C13: NIVEL TÉCNICO Y ASISTENCIAL (AUXILIARES ADMINISTRATIVOS) | D13: MAS | E13: XS -XXL | F13: CAMISA Formal (Adicional) (TELAS LAFAYETTE)(COMPOSICIÓN: 60% Algodón 40% poliéster) | H13: 1300000 | J13: 1 | L13: 1 | N13: - | P13: =H13/30*3 -> 130000 | R13: =L13*P13 -> 130000
B14: BONO - 2024 | C14: NIVEL TÉCNICO Y ASISTENCIAL (AUXILIARES ADMINISTRATIVOS) | D14: MAS | E14: 34 - 42 | F14: CALZADO (tradicional). Para uso con traje formal, en piel natural de origen bovino. CERTIFICADO DE RETIRO DE MERCANCIA | H14: 1300000 | J14: 1 | L14: - | N14: =J14*3 -> 3 | P14: =(H14/30)*5 -> 216666.67 | R14: =N14*P14 -> 650000
B15: AUX. LABORATORIO | C15: NIVEL ASISTENCIAL AUXILIAR DE LABORATORIO | D15: FEM | E15: XS -XXXL | F15: VESTIDO. (Tradicional) Tres (3) prendas en material antifluido, así: Chaqueta (con bolsillos laterales), pantalón y camisa. (TELAS LA LAFAYETTE). CHAQUETA antifluido (COMPOSICIÓN 100% filamento de poliester) Forro de chaqueta yersilon calibre unico (COMPOSICIÓN 100% poliester) PANTALÓN antifluido (COMPOSICIÓN 100% filamento de poliester), CAMISA antifluido (COMPOSICIÓN 100% filamento de poliester) | H15: 1300000 | J15: 3 | L15: - | N15: =+J15*3 -> 9 | P15: =(H15/30)*9 -> 390000 | R15: =N15*P15 -> 3510000
C16: NIVEL ASISTENCIAL AUXILIAR DE LABORATORIO | D16: FEM | E16: XS -XXL | F16: VESTIDO. (Adicional) Tres (3) prendas en material antifluido, así: Chaqueta (con bolsillos laterales), pantalón y camisa (TELAS LAFAYETTE) CHAQUETA antifluido (COMPOSICIÓN 100% 100% filamento de poliester) Forro de chaqueta yersilon calibre unico (COMPOSICIÓN 100% poliester) PANTALÓN antifluido (COMPOSICIÓN 100% 100% filamento de poliester), CAMISA antifluido (COMPOSICIÓN 100% 100% filamento de poliester) | H16: 1300000 | J16: 3 | L16: 3 | N16: - | P16: =(H16/30)*9 -> 390000 | R16: =L16*P16 -> 1170000
C17: NIVEL ASISTENCIAL AUXILIAR DE LABORATORIO | D17: FEM | E17: 32 - 39 | F17: CAMISETA (Adicional) (TELAS LAFAYETTE)(COMPOSICIÓN 100% Algodón) | H17: 1300000 | J17: 3 | L17: 3 | N17: - | P17: =(H17/30)*2 -> 86666.667 | R17: =L17*P17 -> 260000
B18: BONO - 2024 | C18: NIVEL ASISTENCIAL AUXILIAR DE LABORATORIO | D18: FEM | E18: 32 - 39 | F18: CALZADO. En cuero con suela antideslizante y resistente a la flexión. CERTIFICADO DE RETIRO DE MERCANCIA | H18: 1300000 | J18: 3 | L18: - | N18: =+J18*3 -> 9 | P18: =(H18/30)*5 -> 216666.67 | R18: =N18*P18 -> 1950000
B19: DSA BOGOTA | C19: NIVEL ASISTENCIAL OPERARIOS DE ASEO, CAFETERÍA Y MANTENIMIENTO DE PLANTA FÍSICA | D19: FEM | E19: XS -XXL | F19: VESTIDO (Tradicional). Tres (3) prendas en material antifluido, así: Chaqueta (con bolsillos laterales), pantalón y camisa. (TELAS LA LAFAYETTE). CHAQUETA antifluido (COMPOSICIÓN 100% 100% filamento de poliester) Forro de chaqueta yersilon calibre unico (COMPOSICIÓN 100% poliester) PANTALÓN antifluido (COMPOSICIÓN 100% 100% filamento de poliester), CAMISA antifluido (COMPOSICIÓN 100% 100% filamento de poliester) | H19: 1300000 | J19: 19 | L19: - | N19: =J19*3 -> 57 | P19: =(H19/30)*9 -> 390000 | R19: =N19*P19 -> 22230000
C20: NIVEL ASISTENCIAL OPERARIOS DE ASEO, CAFETERÍA Y MANTENIMIENTO DE PLANTA FÍSICA | D20: FEM | E20: XS -XXL | F20: VESTIDO (Adicional). Tres (3) prendas en material antifluido, así: Chaqueta (con bolsillos laterales), pantalón y camisa (TELAS LA LAFAYETTE). CHAQUETA antifluido (COMPOSICIÓN 100% filamento de poliester) Forro de chaqueta yersilon calibre unico | H20: 1300000 | J20: 19 | L20: 19 | N20: - | P20: =(H20/30)*9 -> 390000 | R20: =L20*P20 -> 7410000
C21: NIVEL ASISTENCIAL OPERARIOS DE ASEO, CAFETERÍA Y MANTENIMIENTO DE PLANTA FÍSICA | D21: FEM | E21: XS -XXXL | F21: CAMISETA (Adicional) (TELAS LA LAFAYETTE) (COMPOSICIÓN 100% Algodón) | H21: 1300000 | J21: 19 | L21: 19 | N21: - | P21: =H19/30*2 -> 86666.667 | R21: =L21*P21 -> 1646666.7
B22: BONO - 2024 | C22: NIVEL ASISTENCIAL OPERARIOS DE ASEO, CAFETERÍA Y MANTENIMIENTO DE PLANTA FÍSICA | D22: FEM | E22: 34 - 40 | F22: CALZADO. En cuero, con suela antideslizante y resistente a la flexión. CERTIFICADO DE RETIRO DE MERCANCIA | H22: 1300000 | J22: 19 | L22: - | N22: =+J22*3 -> 57 | P22: =(H22/30)*5 -> 216666.67 | R22: =N22*P22 -> 12350000
B23: DSA PLENOSOL | C23: NIVEL ASISTENCIAL OPERARIOS DE ASEO, CAFETERÍA Y MANTENIMIENTO DE PLANTA FÍSICA-PLENOSOL | D23: FEM | E23: XS -XXXL | F23: VESTIDO. (Tradicional) Tres (3) prendas en material antifluido, así: Chaqueta (con bolsillos laterales), pantalón y camisa. TELAS LA LAFAYETTE. CHAQUETA antifluido (COMPOSICIÓN 100% F100% filamento de poliester) Forro de chaqueta yersilon calibre unico (COMPOSICIÓN 100% poliester) PANTALÓN antifluido (COMPOSICIÓN 100% 100% filamento de poliester), CAMISA antifluido (COMPOSICIÓN 100% 100% filamento de poliester) | H23: 1300000 | J23: 1 | L23: - | N23: =+J23*3 -> 3 | P23: =(H23/30)*9 -> 390000 | R23: =N23*P23 -> 1170000
C24: NIVEL ASISTENCIAL OPERARIOS DE ASEO, CAFETERÍA Y MANTENIMIENTO DE PLANTA FÍSICA-PLENOSOL | D24: FEM | E24: XS -XXL | F24: VESTIDO (Adicional). Tres (3) prendas en material antifluido, así: Chaqueta (con bolsillos laterales), pantalón y camisa (TELAS LA LAFAYETTE). CHAQUETA antifluido (COMPOSICIÓN 100% FILAMENTO DE POLIESTER) Forro de chaqueta yersilon calibre unico (COMPOSICIÓN 100% poliester) PANTALÓN antifluido (COMPOSICIÓN 100% FILAMENTO DE POLIESTER), CAMISA antifluido (COMPOSICIÓN 100% FILAMENTO DE POLIESTER) | H24: 1300000 | J24: 1 | L24: 1 | N24: - | P24: =(H24/30)*9 -> 390000 | R24: =L24*P24 -> 390000
C25: NIVEL ASISTENCIAL OPERARIOS DE ASEO, CAFETERÍA Y MANTENIMIENTO DE PLANTA FÍSICA-PLENOSOL | D25: FEM | E25: XS -XXL | F25: CAMISETA (Adicional) (TELAS LA LAFAYETTE)(COMPOSICIÓN 100% Algodón) | H25: 1300000 | J25: 1 | L25: 1 | N25: - | P25: =(H25/30)*2 -> 86666.667 | R25: =L25*P25 -> 86666.667
B26: BONO - 2024 | C26: NIVEL ASISTENCIAL OPERARIOS DE ASEO, CAFETERÍA Y MANTENIMIENTO DE PLANTA FÍSICA-PLENOSOL | D26: FEM | E26: 32 - 39 | F26: CALZADO. En cuero, con suela antideslizante y resistente a la flexión. CERTIFICADO DE RETIRO DE MERCANCIA | H26: 1300000 | J26: 1 | L26: - | N26: =+J26*3 -> 3 | P26: =(H26/30)*5 -> 216666.67 | R26: =N26*P26 -> 650000
B27: DSA BOGOTA | C27: NIVEL ASISTENCIAL OPERARIOS DE ASEO, CAFETERÍA Y MANTENIMIENTO DE PLANTA FÍSICA | D27: MAS | E27: XS -XXL | F27: VESTIDO. Tres (3) prendas, así: Chaqueta (en Dril), pantalón (en Dril) y camisa (Manga larga). (TELAS LAFAYETTE). Chaqueta (Composición: 98% Algodón 2%), Pantalón (Composición: 98% Algodón 2%), Camisa manga larga y corta (Composición 100% Algodón) | H27: 1300000 | J27: 8 | L27: 0 | N27: =J27*3 -> 24 | P27: =(H27/30)*9 -> 390000 | R27: =N27*P27 -> 9360000
C28: NIVEL ASISTENCIAL OPERARIOS DE ASEO, CAFETERÍA Y MANTENIMIENTO DE PLANTA FÍSICA | D28: MAS | E28: XS -XXL | F28: VESTIDO (Adicional). Tres (3) prendas, así: Chaqueta (en Dril), pantalón (en Dril) y camisa (Manga larga). (TELAS LAFAYETTE.) Chaqueta (Composición: 98% Algodón 2%), Pantalón (Composición: 98% Algodón 2%), Camisa manga larga y corta (Composición 100% Algodón) | H28: 1300000 | J28: 8 | L28: 8 | N28: - | P28: =(H28/30)*9 -> 390000 | R28: =L28*P28 -> 3120000
C29: NIVEL ASISTENCIAL OPERARIOS DE ASEO, CAFETERÍA Y MANTENIMIENTO DE PLANTA FÍSICA | D29: MAS | E29: XS -XXL | F29: CAMISETA TIPO POLO (Adicional) (TELAS LAFAYETTE.) (COMPOSICIÓN 100% algodón) | H29: 1300000 | J29: 8 | L29: 8 | N29: - | P29: =H29/30*2 -> 86666.667 | R29: =L29*P29 -> 693333.33
B30: BONO - 2024 | C30: NIVEL ASISTENCIAL OPERARIOS DE ASEO, CAFETERÍA Y MANTENIMIENTO DE PLANTA FÍSICA | D30: MAS | E30: 34 - 42 | F30: CALZADO. Botas de seguridad, antideslizante, punta de seguridad PVC, dieléctricas y resistentes a hidrocarburos CERTIFICADO DE RETIRO DE MERCANCIA | H30: 1300000 | J30: 8 | L30: - | N30: =J30*3 -> 24 | P30: =(H30/30)*5 -> 216666.67 | R30: =N30*P30 -> 5200000
B31: DSA PLENOSOL | C31: NIVEL ASISTENCIAL OPERARIOS DE ASEO, CAFETERÍA Y MANTENIMIENTO DE PLANTA FÍSICA - PLENOSOL | D31: MAS | E31: XS -XXXL | F31: VESTIDO. Tres (3) prendas, así: Chaqueta (en jean), pantalón (en jean) y camiseta (tipo polo) | H31: 1300000 | J31: 1 | L31: - | N31: =+J31*3 -> 3 | P31: =(H31/30)*9 -> 390000 | R31: =N31*P31 -> 1170000
C32: NIVEL ASISTENCIAL OPERARIOS DE ASEO, CAFETERÍA Y MANTENIMIENTO DE PLANTA FÍSICA - PLENOSOL | D32: MAS | E32: XS -XXXL | F32: VESTIDO (Adicional). Tres (3) prendas, así: Chaqueta (en jean), pantalón (en jean) y camiseta (tipo polo) | H32: 1300000 | J32: 1 | L32: 1 | N32: - | P32: =(H32/30)*9 -> 390000 | R32: =L32*P32 -> 390000
C33: NIVEL ASISTENCIAL OPERARIOS DE ASEO, CAFETERÍA Y MANTENIMIENTO DE PLANTA FÍSICA - PLENOSOL | D33: MAS | E33: XS -XXXL | F33: CAMISETA TIPO POLO Adicional | H33: 1300000 | J33: 1 | L33: 1 | N33: - | P33: =(H33/30)*2 -> 86666.667 | R33: =L33*P33 -> 86666.667
B34: BONO - 2024 | C34: NIVEL ASISTENCIAL OPERARIOS DE ASEO, CAFETERÍA Y MANTENIMIENTO DE PLANTA FÍSICA - PLENOSOL | D34: MAS | E34: 34 - 42 | F34: CALZADO. Botas de seguridad, antideslizante, punta de seguridad PVC, dieléctricas y resistentes a hidrocarburos CERTIFICADO DE RETIRO DE MERCANCIA | H34: 1300000 | J34: 1 | L34: - | N34: =+J34*3 -> 3 | P34: =(H34/30)*5 -> 216666.67 | R34: =N34*P34 -> 650000
B35: DSA BOGOTA - CELADORES | C35: NIVEL ASISTENCIAL CELADORES | D35: MAS | E35: XS -XXXL | F35: VESTIDO FORMAL. Cuatro (4) prendas, así: Chaqueta, pantalón, camisa y corbata, todas las prendas son sobre medidas/ tallaje | H35: 1300000 | J35: 2 | L35: - | N35: =+J35*3 -> 6 | P35: =(H35/30)*16 -> 693333.33 | R35: =N35*P35 -> 4160000
C36: NIVEL ASISTENCIAL CELADORES | D36: MAS | E36: XS -XXXL | F36: VESTIDO INFORMAL (Adicional). Tres (3) prendas, así: Chaqueta, pantalón y camisa, todas las prendas son sobre medidas/ tallaje | H36: 1300000 | J36: 2 | L36: 2 | N36: - | P36: =H36/30*16 -> 693333.33 | R36: =L36*P36 -> 1386666.7
C37: NIVEL ASISTENCIAL CELADORES | D37: MAS | E37: XS -XXXL | F37: CAMISA Formal (Adicional) | H37: 1300000 | J37: 2 | L37: 2 | N37: - | P37: =H37/30*3 -> 130000 | R37: =L37*P37 -> 260000
C38: NIVEL ASISTENCIAL CELADORES | D38: MAS | E38: 34 - 42 | F38: CALZADO (tradicional). Para uso con traje formal, en piel natural de origen bovino. CERTIFICADO DE RETIRO DE MERCANCIA | H38: 1300000 | J38: 2 | L38: - | N38: =+J38*3 -> 6 | P38: =(H38/30)*5 -> 216666.67 | R38: =N38*P38 -> 1300000
C39: NIVEL ASISTENCIAL CELADORES | D39: MAS | E39: XS -XXXL | F39: CHAQUETA impermeable | H39: 1300000 | J39: 2 | L39: - | N39: =+J39*3 -> 6 | P39: =(H39/30)*6 -> 260000 | R39: =N39*P39 -> 1560000
B40: DSA BOGOTA - MENSAJEROS | C40: NIVEL ASISTENCIAL OPERARIOS MENSAJERIA EXTERNA E INTERNA | D40: MAS | E40: XS -XXXL | F40: VESTIDO FORMAL. Cuatro (4) prendas, así: Chaqueta, pantalón, camisa y corbata, todas las prendas son sobre medidas/ tallaje | H40: 1300000 | J40: 2 | L40: - | N40: =+J40*3 -> 6 | P40: =(H40/30)*16 -> 693333.33 | R40: =N40*P40 -> 4160000
C41: NIVEL ASISTENCIAL OPERARIOS MENSAJERIA EXTERNA E INTERNA | D41: MAS | E41: XS -XXXL | F41: VESTIDO INFORMAL (Adicional). Tres (3) prendas, así: Chaqueta, pantalón y camisa, todas las prendas son sobre medidas/ tallaje | H41: 1300000 | J41: 2 | L41: 2 | N41: - | P41: =H41/30*16 -> 693333.33 | R41: =L41*P41 -> 1386666.7
C42: NIVEL ASISTENCIAL OPERARIOS MENSAJERIA EXTERNA E INTERNA | D42: MAS | E42: XS -XXXL | F42: CAMISA Formal (Adicional) | H42: 1300000 | J42: 2 | L42: 2 | N42: - | P42: =H42/30*3 -> 130000 | R42: =L42*P42 -> 260000
C43: NIVEL ASISTENCIAL OPERARIOS MENSAJERIA EXTERNA E INTERNA | D43: MAS | E43: 34 - 42 | F43: CALZADO (tradicional). Para uso con traje formal, en piel natural de origen bovino. CERTIFICADO DE RETIRO DE MERCANCIA | H43: 1300000 | J43: 2 | L43: - | N43: =+J43*3 -> 6 | P43: =(H43/30)*5 -> 216666.67 | R43: =N43*P43 -> 1300000
B44: DSA BOGOTA - CONDUCTOR RECTORÍA | C44: NIVEL ASISTENCIAL CONDUCTOR MECANICO | D44: MAS | E44: XS -XXXL | F44: VESTIDO FORMAL. Cuatro (4) prendas, así: Chaqueta, pantalón, camisa y corbata, todas las prendas son sobre medidas/ tallaje | H44: 1300000 | J44: 2 | L44: - | N44: =+J44*3 -> 6 | P44: =(H44/30)*16 -> 693333.33 | R44: =N44*P44 -> 4160000
C45: NIVEL ASISTENCIAL CONDUCTOR MECANICO | D45: MAS | E45: XS -XXXL | F45: VESTIDO INFORMAL (Adicional). Tres (3) prendas, así: Chaqueta, pantalón y camisa, todas las prendas son sobre medidas/ tallaje | H45: 1300000 | J45: 2 | L45: 2 | N45: - | P45: =H45/30*16 -> 693333.33 | R45: =L45*P45 -> 1386666.7
C46: NIVEL ASISTENCIAL CONDUCTOR MECANICO | D46: MAS | E46: XS -XXXL | F46: CAMISA Formal (Adicional) | H46: 1300000 | J46: 2 | L46: 2 | N46: - | P46: =H46/30*3 -> 130000 | R46: =L46*P46 -> 260000
C47: NIVEL ASISTENCIAL CONDUCTOR MECANICO | D47: MAS | E47: 34 - 40 | F47: CALZADO (tradicional). Para uso con traje formal, en piel natural de origen bovino. CERTIFICADO DE RETIRO DE MERCANCIA | H47: 1300000 | J47: 2 | L47: - | N47: =+J47*3 -> 6 | P47: =(H47/30)*5 -> 216666.67 | R47: =N47*P47 -> 1300000
B48: OTRA DOTACIÓN - BATAS | C48: PERSONAL MEDICO, ODONTOLÓGICO, ENFERMERA Y LABORATORIO DEL AREA DE SALUD | D48: FEM | E48: XS -XXXL | F48: BATA. En material antifluido, color blanco, cremallera, puño resortado en algodón, cuello tipo smoking, bolsillos laterales, bolsillo superior izquierdo y largo medio, todas las prendas son sobre medidas/ tallaje. (COMPOSICIÓN 100% FILAMENTO DE POLIESTER, puño RIB, con cremallera ) | H48: 1300000 | J48: 6 | L48: - | N48: =+J48*2 -> 12 | P48: =(H48/30)*3 -> 130000 | R48: =N48*P48 -> 1560000
C49: AUXILIAR DE LABORATORIO CENTRAL | D49: FEM | E49: XS -XXXL | F49: BATA. En material antifluido, color blanco, cremallera, puño resortado en algodón, cuello tipo smoking, bolsillos laterales, bolsillo superior izquierdo y largo medio, todas las prendas son sobre medidas/ tallaje. (COMPOSICIÓN 100% FILAMENTO DE POLIESTER, puño RIB, con cremallera ) | H49: 1300000 | J49: 3 | L49: - | N49: =+J49*2 -> 6 | P49: =(H49/30)*3 -> 130000 | R49: =N49*P49 -> 780000
C50: PERSONAL TÉCNICO Y ASISTENCIAL QUE MANEJA EL ARCHIVO | D50: FEM | E50: XS -XXXL | F50: BATA. En material antifluido, color blanco y otro tono a escoger, cremallera, puño resortado en algodón, cuello tipo smoking, bolsillos laterales, bolsillo superior izquierdo y largo medio, todas las prendas son sobre medidas/ tallaje. (COMPOSICIÓN 100% FILAMENTO DE POLIESTER, puño RIB, con cremallera ) | H50: 1300000 | J50: 34 | L50: - | N50: =J50*2 -> 68 | P50: =(H50/30)*3 -> 130000 | R50: =N50*P50 -> 8840000
C51: PERSONAL TÉCNICO Y ASISTENCIAL QUE MANEJA EL ARCHIVO Y SOPORTE TÉCNICO | D51: MAS | E51: XS -XXXL | F51: BATA. En material antifluido, color blanco y otro tono a escoger, cremallera, puño resortado en algodón, cuello tipo smoking, bolsillos laterales, bolsillo superior izquierdo y largo medio, todas las prendas son sobre medidas/ tallaje. (COMPOSICIÓN 100% FILAMENTO DE POLIESTER, puño RIB, con cremallera ) | H51: 1300000 | J51: 13 | L51: - | N51: =+J51*2 -> 26 | P51: =(H51/30)*3 -> 130000 | R51: =N51*P51 -> 3380000
R52: =SUM(R3:R51) -> 4.4321333e+08

Sheet ESPECIFICACIONES TECNICAS
C3: TIPO DOTACION | D3: CANT | E3: GENERO | G3: TALLAS | H3: CARACTERÍSTICAS TÉCNICAS MÍNIMAS | I3: PRESUPUESTOS PARCIALES
E4: FEM | F4: MASC
B6: LOTE 5 | C6: BATA | D6: =SOL_DISCRIMINADA!N48+SOL_DISCRIMINADA!N49+SOL_DISCRIMINADA!N50 -> 86 | E6: X | G6: XS a la XXXL | H6: En material antifluido, color blanco y otro tono a escoger, cremallera, puño resortado en algodón, cuello tipo smoking, bolsillos laterales, bolsillo superior izquierdo y largo medio, todas las prendas son sobre medidas/ tallaje | I6: =(D6+D7)*SOL_DISCRIMINADA!P48 -> 14560000 | J6: ok | K6: PERSONAL MEDICO, ODONTOLÓGICO, Y LABORATORIO DEL AREA DE SALUD, AUXILIAR DE LABORATORIO CENTRAL, PERSONAL TÉCNICO Y ASISTENCIAL QUE MANEJA EL ARCHIVO
C7: BATA | D7: =SOL_DISCRIMINADA!N51 -> 26 | F7: X | G7: XS a la XXXL | H7: En material antifluido, color blanco y otro tono a escoger, cremallera, puño resortado en algodón, cuello tipo smoking, bolsillos laterales, bolsillo superior izquierdo y largo medio, todas las prendas son sobre medidas/ tallaje
B9: LOTE 5 | C9: UNIFORME | D9: =+SOL_DISCRIMINADA!N19+SOL_DISCRIMINADA!L20+SOL_DISCRIMINADA!N15+SOL_DISCRIMINADA!L16+SOL_DISCRIMINADA!N23+SOL_DISCRIMINADA!L24 -> 92 | E9: X | G9: XS a la XXXL | H9: VESTIDO. Tres (3) prendas en material antifluido, así: Chaqueta (con bolsillos laterales), pantalón y camisa | I9: =D9*SOL_DISCRIMINADA!P15 -> 35880000 | J9: ok | K9: NIVEL ASISTENCIAL, AUXILIAR DE LABORATORIO, OPERARIOS DE ASEO, CAFETERÍA Y MANTENIMIENTO DE PLANTA FÍSICA, OPERARIOS DE ASEO, CAFETERÍA Y MANTENIMIENTO DE PLANTA FÍSICA-PLENOSOL,
B11: LOTE 4 | C11: UNIFORME | D11: =SOL_DISCRIMINADA!N11+SOL_DISCRIMINADA!L12+SOL_DISCRIMINADA!N27+SOL_DISCRIMINADA!L28 -> 36 | F11: X | G11: XS a la XXXL | H11: VESTIDO. Tres (3) prendas, así: Chaqueta (en jean), pantalón (en jean) y camiseta (tipo polo) | I11: =D11*SOL_DISCRIMINADA!P31 -> 14040000 | J11: ok | K11: OPERARIOS DE ASEO, CAFETERÍA Y MANTENIMIENTO DE PLANTA FÍSICA, OPERARIOS DE ASEO, CAFETERÍA Y MANTENIMIENTO DE PLANTA FÍSICA - PLENOSOL,
B13: LOTE 2 | C13: UNIFORME | D13: =SOL_DISCRIMINADA!N31+SOL_DISCRIMINADA!L32 -> 4 | F13: X | G13: XS a la XXXL | H13: VESTIDO. Tres (3) prendas, así: Chaqueta (en dril / pana / guata), pantalón (en dril) y camisa manga corta | I13: =4*SOL_DISCRIMINADA!P11 -> 2773333.3 | J13: ok | K13: señor Carmona Plenosol
B15: LOTE 3 | C15: VESTIDO FORMAL E INFORMAL | D15: =SOL_DISCRIMINADA!N3+SOL_DISCRIMINADA!L4 -> 262 | E15: X | G15: XS a la XXXL | H15: VESTIDO FORMAL. Cuatro (4) prendas, así: Chaqueta (con bolsillos), chaleco (con bolsillos), pantalón y camisa y VESTIDO INFORMAL. Tres (3) prendas, así: Chaqueta (con bolsillos), pantalón y blusa | I15: =262*SOL_DISCRIMINADA!P3 -> 1.8165333e+08 | J15: ok | K15: NIVEL TÉCNICO Y ASISTENCIAL (SECRETARIAS Y AUXILIARES ADMINISTRATIVOS)
B17: LOTE 2 | C17: VESTIDO FORMAL E INFORMAL | D17: =SOL_DISCRIMINADA!N7+SOL_DISCRIMINADA!L8+SOL_DISCRIMINADA!N35+SOL_DISCRIMINADA!L36+SOL_DISCRIMINADA!N40+SOL_DISCRIMINADA!L41+SOL_DISCRIMINADA!N44+SOL_DISCRIMINADA!L45 -> 132 | F17: X | G17: XS a la XXXL | H17: VESTIDO FORMAL. Cuatro (4) prendas, así: Chaqueta, pantalón, camisa y corbata y VESTIDO INFORMAL. Tres (3) prendas, así: Chaqueta, pantalón y camisa. | I17: =D17*SOL_DISCRIMINADA!P44 -> 91520000 | J17: ok | K17: NIVEL TÉCNICO Y ASISTENCIAL (AUXILIARES ADMINISTRATIVOS), CELADORES, OPERARIOS MENSAJERIA EXTERNA E INTERNA, CONDUCTOR MECANICO
B19: LOTE 2 | C19: CHAQUETAS PARA CABALLERO | D19: =SOL_DISCRIMINADA!N39 -> 6 | F19: X | G19: XS a la XXXL | H19: Chaqueta impermeable, para uso con traje formal | I19: =6*SOL_DISCRIMINADA!P39 -> 1560000 | J19: ok | K19: NIVEL ASISTENCIAL CELADORES
B21: LOTE 1 | C21: CALZADO | D21: =SOL_DISCRIMINADA!N22+SOL_DISCRIMINADA!#REF! -> #REF! | E21: X | G21: 34 a la 42 | H21: CALZADO. En cuero, con suela antideslizante y resistente a la flexión | I21: =D21*SOL_DISCRIMINADA!P22 -> #REF! | J21: ok | K21: OPERARIOS DE ASEO, CAFETERÍA Y MANTENIMIENTO DE PLANTA FÍSICA, OPERARIOS DE ASEO, CAFETERÍA Y MANTENIMIENTO DE PLANTA FÍSICA - PLENOSOL, OPERARIOS DE ASEO, CAFETERÍA Y MANTENIMIENTO DE PLANTA FÍSICA-PLENOSOL
B23: LOTE 6 | C23: CALZADO | D23: =SOL_DISCRIMINADA!#REF! -> #REF! | E23: X | G23: 34 a la 42 | H23: En cuero con suela antideslizante y resistente a la flexión. | I23: =D23*SOL_DISCRIMINADA!#REF! -> #REF! | J23: OK | K23: NIVEL ASISTENCIAL AUXILIAR DE LABORATORIO
B26: LOTE 7 | C26: CERTIFICADO DE RETIRO DE MERCANCÍA | D26: =SOL_DISCRIMINADA!N6 -> 197 | E26: X | G26: 34 a la 42 | H26: CALZADO. Para uso con traje formal, en piel natural de origen bovino, sistema de retiro de mercancía. | I26: =D26*SOL_DISCRIMINADA!P6 -> 42683333 | J26: ok | K26: NIVEL TÉCNICO Y ASISTENCIAL (SECRETARIAS Y AUXILIARES ADMINISTRATIVOS)
B28: LOTE 2 | C28: CALZADO | D28: =SOL_DISCRIMINADA!N10+SOL_DISCRIMINADA!N14+SOL_DISCRIMINADA!N38+SOL_DISCRIMINADA!N43+SOL_DISCRIMINADA!N47 -> 102 | F28: X | G28: 34 a la 42 | H28: Para uso con traje formal, en piel natural de origen bovino | I28: =D28*SOL_DISCRIMINADA!P30 -> 22100000 | J28: ok | K28: NIVEL TÉCNICO Y ASISTENCIAL (AUXILIARES ADMINISTRATIVOS), NIVEL ASISTENCIAL CELADORES, OPERARIOS MENSAJERIA EXTERNA E INTERNA, CONDUCTOR MECANICO, SEÑOR CARMONA
B30: LOTE 8 | C30: CALZADO - BOTAS DE SEGURIDAD | D30: =SOL_DISCRIMINADA!N30+SOL_DISCRIMINADA!#REF! -> #REF! | F30: X | G30: 34 a la 42 | H30: Botas con suela antideslizante y resistente a la flexión, punta de acero o en fibra de vidrio y forradas | I30: =D30*SOL_DISCRIMINADA!P30 -> #REF! | J30: ok | K30: OPERARIOS DE ASEO, CAFETERÍA Y MANTENIMIENTO DE PLANTA FÍSICA, OPERARIOS DE ASEO, CAFETERÍA Y MANTENIMIENTO DE PLANTA FÍSICA - PLENOSOL
B32: LOTE 3 | C32: BLUSA FORMAL PARA DAMA | D32: =SOL_DISCRIMINADA!L5 -> 65 | E32: X | G32: XS a la XXXL | H32: BLUSA FORMAL | I32: =D32*SOL_DISCRIMINADA!P5 -> 8450000 | J32: ok | K32: NIVEL TÉCNICO Y ASISTENCIAL (SECRETARIAS Y AUXILIARES ADMINISTRATIVOS)
B34: LOTE 2 | C34: CAMISA FORMAL PARA CABALLERO | D34: =SOL_DISCRIMINADA!L37+SOL_DISCRIMINADA!L42+SOL_DISCRIMINADA!L46+SOL_DISCRIMINADA!L25+SOL_DISCRIMINADA!L9 -> 34 | F34: X | G34: XS a la XXXL | H34: CAMISA FORMAL PARA CABALLERO | I34: =D34*SOL_DISCRIMINADA!P9 -> 4420000 | J34: ok | K34: NIVEL TÉCNICO Y ASISTENCIAL (AUXILIARES ADMINISTRATIVOS), CELADORES, OPERARIOS MENSAJERIA EXTERNA E INTERNA, CONDUCTOR MECANICO Y CARMONA
B36: LOTE 5 | C36: CAMISETA DAMA | D36: =SOL_DISCRIMINADA!L17+SOL_DISCRIMINADA!L21+SOL_DISCRIMINADA!L25 -> 23 | E36: X | G36: XS a la XXXL | H36: CAMISETA PARA DAMA | I36: =D36*SOL_DISCRIMINADA!P25 -> 1993333.3 | J36: ok | K36: AUXILIAR DE ENFERMERÍA, AUXILIAR DE LABORATORIO, OPERARIOS DE ASEO, CAFETERÍA Y MANTENIMIENTO DE PLANTA FÍSICA, OPERARIOS DE ASEO, CAFETERÍA Y MANTENIMIENTO DE PLANTA FÍSICA-PLENOSOL
B38: LOTE 4 | C38: CAMISETA CABALLERO | D38: =SOL_DISCRIMINADA!L25+SOL_DISCRIMINADA!L29 -> 9 | F38: x | G38: XS a la XXXL | H38: CAMISETA PARA CABALLERO: Tipo polo | I38: =D38*SOL_DISCRIMINADA!P29 -> 780000 | J38: ok | K38: OPERARIOS DE ASEO, CAFETERÍA Y MANTENIMIENTO DE PLANTA FÍSICA, OPERARIOS DE ASEO, CAFETERÍA Y MANTENIMIENTO DE PLANTA FÍSICA - PLENOSOL
I39: =SUM(I6+I9+I11+I13+I15+I17+I19+I21+I23+I26+I28+I30+I32+I34+I36+I38) -> #REF! | L39: =SOL_DISCRIMINADA!R52-'ESPECIFICACIONES TECNICAS'!I39 -> #REF!

Sheet ESPECIFICACIONES TECNICAS (2)
C3: TIPO DOTACION | D3: CANT | E3: GENERO | G3: TALLAS | H3: CARACTERÍSTICAS TÉCNICAS MÍNIMAS | I3: PRESUPUESTOS PARCIALES
E4: FEM | F4: MASC
B6: LOTE 5 | C6: BATA | D6: 86 | E6: X | G6: XS a la XXXL | H6: En material antifluido, color blanco y otro tono a escoger, cremallera, puño resortado en algodón, cuello tipo smoking, bolsillos laterales, bolsillo superior izquierdo y largo medio, todas las prendas son sobre medidas/ tallaje | I6: =112*130000 -> 14560000 | J6: ok | K6: PERSONAL MEDICO, ODONTOLÓGICO, Y LABORATORIO DEL AREA DE SALUD, AUXILIAR DE LABORATORIO CENTRAL, PERSONAL TÉCNICO Y ASISTENCIAL QUE MANEJA EL ARCHIVO
C7: BATA | D7: 26 | F7: X | G7: XS a la XXXL | H7: En material antifluido, color blanco y otro tono a escoger, cremallera, puño resortado en algodón, cuello tipo smoking, bolsillos laterales, bolsillo superior izquierdo y largo medio, todas las prendas son sobre medidas/ tallaje
B9: LOTE 5 | C9: UNIFORME | D9: =+SOL_DISCRIMINADA!N19+SOL_DISCRIMINADA!L20+SOL_DISCRIMINADA!N15+SOL_DISCRIMINADA!L16+SOL_DISCRIMINADA!N23+SOL_DISCRIMINADA!L24 -> 92 | E9: X | G9: XS a la XXXL | H9: VESTIDO. Tres (3) prendas en material antifluido, así: Chaqueta (con bolsillos laterales), pantalón y camisa | I9: =92*390000 -> 35880000 | J9: ok | K9: NIVEL ASISTENCIAL, AUXILIAR DE LABORATORIO, OPERARIOS DE ASEO, CAFETERÍA Y MANTENIMIENTO DE PLANTA FÍSICA, OPERARIOS DE ASEO, CAFETERÍA Y MANTENIMIENTO DE PLANTA FÍSICA-PLENOSOL,
B11: LOTE 4 | C11: UNIFORME | D11: =SOL_DISCRIMINADA!N11+SOL_DISCRIMINADA!L12+SOL_DISCRIMINADA!N27+SOL_DISCRIMINADA!L28 -> 36 | F11: X | G11: XS a la XXXL | H11: VESTIDO. Tres (3) prendas, así: Chaqueta (en jean), pantalón (en jean) y camiseta (tipo polo) | I11: =36*390000 -> 14040000 | J11: ok | K11: OPERARIOS DE ASEO, CAFETERÍA Y MANTENIMIENTO DE PLANTA FÍSICA, OPERARIOS DE ASEO, CAFETERÍA Y MANTENIMIENTO DE PLANTA FÍSICA - PLENOSOL,
B13: LOTE 2 | C13: UNIFORME | D13: 4 | F13: X | G13: XS a la XXXL | H13: VESTIDO. Tres (3) prendas, así: Chaqueta (en dril / pana / guata), pantalón (en dril) y camisa manga corta | I13: =4*693000 -> 2772000 | J13: ok | K13: señor Carmona Plenosol
B15: LOTE 3 | C15: VESTIDO FORMAL E INFORMAL | D15: =SOL_DISCRIMINADA!N3+SOL_DISCRIMINADA!L4 -> 262 | E15: X | G15: XS a la XXXL | H15: VESTIDO FORMAL. Cuatro (4) prendas, así: Chaqueta (con bolsillos), chaleco (con bolsillos), pantalón y camisa y VESTIDO INFORMAL. Tres (3) prendas, así: Chaqueta (con bolsillos), pantalón y blusa | I15: =262*693333 -> 181653246 | J15: ok | K15: NIVEL TÉCNICO Y ASISTENCIAL (SECRETARIAS Y AUXILIARES ADMINISTRATIVOS)
B17: LOTE 2 | C17: VESTIDO FORMAL E INFORMAL | D17: 132 | F17: X | G17: XS a la XXXL | H17: VESTIDO FORMAL. Cuatro (4) prendas, así: Chaqueta, pantalón, camisa y corbata y VESTIDO INFORMAL. Tres (3) prendas, así: Chaqueta, pantalón y camisa. | I17: =132*693333 -> 91519956 | J17: ok | K17: NIVEL TÉCNICO Y ASISTENCIAL (AUXILIARES ADMINISTRATIVOS), CELADORES, OPERARIOS MENSAJERIA EXTERNA E INTERNA, CONDUCTOR MECANICO
B19: LOTE 2 | C19: CHAQUETAS PARA CABALLERO | D19: 6 | F19: X | G19: XS a la XXXL | H19: Chaqueta impermeable, para uso con traje formal | I19: =6*260000 -> 1560000 | J19: ok | K19: NIVEL ASISTENCIAL CELADORES
B21: BONO 2023 | C21: CERTIFICADO DE RETIRO DE MERCANCÍA | D21: =SOL_DISCRIMINADA!N22+SOL_DISCRIMINADA!#REF! -> #REF! | E21: X | G21: 34 a la 42 | H21: CALZADO. En cuero, con suela antideslizante y resistente a la flexión | I21: =60*216666 -> 12999960 | J21: ok | K21: OPERARIOS DE ASEO, CAFETERÍA Y MANTENIMIENTO DE PLANTA FÍSICA, OPERARIOS DE ASEO, CAFETERÍA Y MANTENIMIENTO DE PLANTA FÍSICA - PLENOSOL, OPERARIOS DE ASEO, CAFETERÍA Y MANTENIMIENTO DE PLANTA FÍSICA-PLENOSOL
B23: BONO 2023 | C23: CALZADO | D23: =SOL_DISCRIMINADA!#REF! -> #REF! | E23: X | G23: 34 a la 42 | H23: En cuero con suela antideslizante y resistente a la flexión. | I23: =9*216666 -> 1949994 | J23: OK | K23: NIVEL ASISTENCIAL AUXILIAR DE LABORATORIO
B26: BONO 2023 | C26: CERTIFICADO DE RETIRO DE MERCANCÍA | D26: =SOL_DISCRIMINADA!N6 -> 197 | E26: X | G26: 34 a la 42 | H26: CALZADO. Para uso con traje formal, en piel natural de origen bovino, sistema de retiro de mercancía. | I26: =197*216666 -> 42683202 | J26: ok | K26: NIVEL TÉCNICO Y ASISTENCIAL (SECRETARIAS Y AUXILIARES ADMINISTRATIVOS)
B28: LOTE 2 | C28: CALZADO | D28: =SOL_DISCRIMINADA!N10+SOL_DISCRIMINADA!N14+SOL_DISCRIMINADA!N38+SOL_DISCRIMINADA!N43+SOL_DISCRIMINADA!N47 -> 102 | F28: X | G28: 34 a la 42 | H28: Para uso con traje formal, en piel natural de origen bovino | I28: =102*216666 -> 22099932 | J28: ok | K28: NIVEL TÉCNICO Y ASISTENCIAL (AUXILIARES ADMINISTRATIVOS), NIVEL ASISTENCIAL CELADORES, OPERARIOS MENSAJERIA EXTERNA E INTERNA, CONDUCTOR MECANICO, SEÑOR CARMONA
B30: LOTE 4 | C30: CALZADO - BOTAS DE SEGURIDAD | D30: =SOL_DISCRIMINADA!N30+SOL_DISCRIMINADA!#REF! -> #REF! | F30: X | G30: 34 a la 42 | H30: Botas con suela antideslizante y resistente a la flexión, punta de acero o en fibra de vidrio y forradas | I30: =27*216666 -> 5849982 | J30: ok | K30: OPERARIOS DE ASEO, CAFETERÍA Y MANTENIMIENTO DE PLANTA FÍSICA, OPERARIOS DE ASEO, CAFETERÍA Y MANTENIMIENTO DE PLANTA FÍSICA - PLENOSOL
B32: LOTE 3 | C32: BLUSA FORMAL PARA DAMA | D32: =SOL_DISCRIMINADA!L5 -> 65 | E32: X | G32: XS a la XXXL | H32: BLUSA FORMAL | I32: =65*130000 -> 8450000 | J32: ok | K32: NIVEL TÉCNICO Y ASISTENCIAL (SECRETARIAS Y AUXILIARES ADMINISTRATIVOS)
B34: LOTE 2 | C34: CAMISA FORMAL PARA CABALLERO | D34: 34 | F34: X | G34: XS a la XXXL | H34: CAMISA FORMAL PARA CABALLERO | I34: =34*130000 -> 4420000 | J34: ok | K34: NIVEL TÉCNICO Y ASISTENCIAL (AUXILIARES ADMINISTRATIVOS), CELADORES, OPERARIOS MENSAJERIA EXTERNA E INTERNA, CONDUCTOR MECANICO Y CARMONA
B36: LOTE 5 | C36: CAMISETA DAMA | D36: =SOL_DISCRIMINADA!L17+SOL_DISCRIMINADA!L21+SOL_DISCRIMINADA!L25 -> 23 | E36: X | G36: XS a la XXXL | H36: CAMISETA PARA DAMA | I36: =23*86666 -> 1993318 | J36: ok | K36: AUXILIAR DE ENFERMERÍA, AUXILIAR DE LABORATORIO, OPERARIOS DE ASEO, CAFETERÍA Y MANTENIMIENTO DE PLANTA FÍSICA, OPERARIOS DE ASEO, CAFETERÍA Y MANTENIMIENTO DE PLANTA FÍSICA-PLENOSOL
B38: LOTE 4 | C38: CAMISETA CABALLERO | D38: =SOL_DISCRIMINADA!L25+SOL_DISCRIMINADA!L29 -> 9 | F38: x | G38: XS a la XXXL | H38: CAMISETA PARA CABALLERO: Tipo polo | I38: =9*86666 -> 779994 | J38: ok | K38: OPERARIOS DE ASEO, CAFETERÍA Y MANTENIMIENTO DE PLANTA FÍSICA, OPERARIOS DE ASEO, CAFETERÍA Y MANTENIMIENTO DE PLANTA FÍSICA - PLENOSOL
I39: =SUM(I6+I9+I11+I13+I15+I17+I19+I21+I23+I26+I28+I30+I32+I34+I36+I38) -> 443211584 | L39: =SOL_DISCRIMINADA!R52-'ESPECIFICACIONES TECNICAS (2)'!I39 -> 1749.3333
H40: Plan de Compras | I40: 350000000
H41: Diferencia | I41: =I39-I40 -> 93211584

Sheet ANEXO 2
A6: UNIVERSIDAD COLEGIO MAYOR DE CUNDINAMARCA
A7: "PROPUESTA TÉCNICO ECONÓMICA"
B8: TERMINOS DE REFERENCIA DE MEDIANA CUANTIA
A9: 2024
H10: ANEXO 2
C12: TIPO DOTACION | D12: CANT | E12: GENERO | G12: TALLAS | H12: CARACTERÍSTICAS TÉCNICAS MÍNIMAS | I12: PRESUPUESTOS PARCIALES | J12: VALOR UNITARIO | K12: % DE IVA | L12: VALOR TOTAL
E13: FEM | F13: MASC
B15: LOTE 1 | C15: VESTIDO FORMAL E INFORMAL | D15: 262 | E15: X | G15: XXS a la XXL | H15: VESTIDO FORMAL (tradicional). Cuatro (4) prendas, así: Chaqueta (con bolsillos), chaleco (con bolsillos): (COMPOSICIÓN 94% poliester,6% spandex , Forro 100% poliester) Pantalón: (COMPOSICIÓN: 96% poliester 4% spandex). Camisa: (COMPOSICIÓN: 83% poliester, 15% algodón, 2% spandex ). (TELAS LAFAYETTE) | I15: 1.8165333e+08
B16: LOTE 1 | C16: BLUSA FORMAL PARA DAMA | D16: 65 | E16: X | G16: XXS a la XXL | H16: BLUSA FORMAL (COMPOSICIÓN: POLIÉSTER 83% ALGODÓN 15% 2%SPANDEX) (TELAS LAFAYETTE) | I16: 8450000
B17: LOTE 2 | C17: VESTIDO FORMAL E INFORMAL | D17: 137 | F17: X | G17: XS a la XXL | H17: VESTIDO FORMAL (tradicional). Cuatro (4) prendas, así: BLAZER (COMPOSICIÓN: 70% poliéster 30% rayon vizcosa, 100% poliester el forro) CAMISAS (COMPOSICIÓN: 60% Algodón 40% poliéster) PANTALÓN (COMPOSICIÓN: 65% poliéster, 35% Viscosa) CORBATA (COMPOSICIÓN: filamentos de poliéster sin textura superior o igual al 85% en peso, tejido plano 100% filamento continuo de poliéster con hilos de diferentes colores suavizados. (satín, microfibra, estampado). (TELAS LAFAYETTE) | I17: 94986667
B18: LOTE 2 | C18: CHAQUETAS PARA CABALLERO | D18: 6 | F18: X | G18: XS a la XXL | H18: Chaqueta impermeable, para uso con traje formal 100% poliéster con forro de tela de diseño (TELAS LAFAYETTE). | I18: 1560000
B19: LOTE 2 | C19: CAMISA FORMAL PARA CABALLERO | D19: 34 | F19: X | G19: XS a la XXL | H19: CAMISA Formal (Adicional) (COMPOSICIÓN: 60% Algodón 40% poliéster) (TELAS LAFAYETTE) | I19: 4420000
B20: LOTE 3 | C20: UNIFORME | D20: 36 | F20: X | G20: XS a la XXL | H20: VESTIDO. Tres (3) prendas, así: Chaqueta (en Dril) (Composición: 98% Algodón 2% spandex) pantalón (en Dril) (Composición: 98% Algodón 2% spandex) camisa (Manga larga y corta) (Composición 100% Algodón). (TELAS LAFAYETTE). | I20: 14040000
B21: LOTE 3 | C21: CAMISETA CABALLERO | D21: 9 | F21: x | G21: XS a la XXXL | H21: CAMISETA PARA CABALLERO: Tipo polo (COMPOSICIÓN 100% algodón) | I21: 780000
B22: LOTE 4 | C22: UNIFORME | D22: 92 | E22: X | G22: XXS a la XXL | H22: VESTIDO. (Tradicional) Tres (3) prendas en material antifluido, así: CHAQUETA (con bolsillos laterales), antifluido (COMPOSICIÓN 100% filamento de poliester), Forro de chaqueta yersilon calibre unico PANTALÓN antifluido (COMPOSICIÓN 100% filamento de poliester) CAMISA antifluido (COMPOSICIÓN 100% filamento de poliester) (TELAS LA LAFAYETTE). | I22: 35880000
B23: LOTE 4 | C23: CAMISETA DAMA | D23: 23 | E23: X | G23: XXS a la XXL | H23: CAMISETA PARA DAMA (COMPOSICIÓN 100% Algodón) (TELAS LAFAYETTE). | I23: 1993333.3
B24: LOTE 4 | C24: BATA | D24: 64 | E24: X | G24: XXS a la XXXL | H24: En material antifluido, color blanco y otro tono a escoger, cremallera, puño resortado en algodón, cuello tipo smoking, bolsillos laterales, bolsillo superior izquierdo y largo medio, todas las prendas son sobre medidas/ tallaje. (COMPOSICIÓN 100% FILAMENTO DE POLIESTER, puño RIB, con cremallera ) (TELAS LAFAYETTE). | I24: 12480000
C25: BATA | D25: 32 | F25: X | G25: XXS a la XXXL | H25: En material antifluido, color blanco y otro tono a escoger, cremallera, puño resortado en algodón, cuello tipo smoking, bolsillos laterales, bolsillo superior izquierdo y largo medio, todas las prendas son sobre medidas/ tallaje (COMPOSICIÓN 100% FILAMENTO DE POLIESTER, puño RIB, con cremallera ) (TELAS LAFAYETTE).
B26: LOTE 5 | C26: CERTIFICADO DE RETIRO DE MERCANCÍA CALZADO | D26: 197 | E26: X | G26: 34 a la 42 | H26: CALZADO. Para uso con traje formal, en piel natural de origen bovino, sistema de retiro de mercancía. | I26: 42683333
B27: LOTE 6 | C27: CERTIFICADO DE RETIRO DE MERCANCÍA CALZADO | D27: 102 | F27: X | G27: 34 a la 42 | H27: CALZADO.Para uso con traje formal, en piel natural de origen bovino sistema de retiro de mercancía. | I27: 22100000
B28: LOTE 7 | C28: CERTIFICADO DE RETIRO DE MERCANCÍA CALZADO | D28: 69 | E28: X | G28: 34 a la 42 | H28: CALZADO. En cuero, con suela antideslizante y resistente a la flexión Sistema de retiro de mercancía. | I28: 14950000
B29: LOTE 8 | C29: CERTIFICADO DE RETIRO DE MERCANCÍA CALZADO - BOTAS DE SEGURIDAD | D29: 27 | F29: X | G29: 34 a la 42 | H29: CALZADO.  botas dieléctricas de seguridad industrial con puntera en policarbonato (composite), suela en poliuretano densidad con capacidad dieléctrica.  en piel natural de origen bovino botas de seguridad, antideslizante, punta de seguridad PVC, dieléctricas y resistentes a hidrocarburos. certificado de retiro de mercancía. | I29: 5850000
I31: =SUM(I15:I29) -> 441826667
F32: VALOR TOTAL ANTES DE IVA
F34: VALOR IVA
F36: VALOR TOTAL DE LA PROPUESTA
F40: Firma Representante Legal y/o Persona Natural
